BEGIN:VCALENDAR
VERSION:2.0
PRODID:-//Konrad-Adenauer-Schule - ECPv6.2.6//NONSGML v1.0//EN
CALSCALE:GREGORIAN
METHOD:PUBLISH
X-ORIGINAL-URL:https://schulen-treis-karden.de
X-WR-CALDESC:Veranstaltungen für Konrad-Adenauer-Schule
REFRESH-INTERVAL;VALUE=DURATION:PT1H
X-Robots-Tag:noindex
X-PUBLISHED-TTL:PT1H
BEGIN:VTIMEZONE
TZID:Europe/Berlin
BEGIN:DAYLIGHT
TZOFFSETFROM:+0100
TZOFFSETTO:+0200
TZNAME:CEST
DTSTART:20200329T010000
END:DAYLIGHT
BEGIN:STANDARD
TZOFFSETFROM:+0200
TZOFFSETTO:+0100
TZNAME:CET
DTSTART:20201025T010000
END:STANDARD
END:VTIMEZONE
BEGIN:VEVENT
DTSTART;TZID=Europe/Berlin:20200409T000000
DTEND;TZID=Europe/Berlin:20200417T000000
DTSTAMP:20260420T172757
CREATED:20190413T090709Z
LAST-MODIFIED:20200415T181048Z
UID:14312-1586390400-1587081600@schulen-treis-karden.de
SUMMARY:Osterferien 2020
DESCRIPTION:
URL:https://schulen-treis-karden.de/event/osterferien-2020/
CATEGORIES:Ferien
END:VEVENT
BEGIN:VEVENT
DTSTART;VALUE=DATE:20200430
DTEND;VALUE=DATE:20200501
DTSTAMP:20260420T172757
CREATED:20190413T085410Z
LAST-MODIFIED:20200415T181137Z
UID:14292-1588204800-1588291199@schulen-treis-karden.de
SUMMARY:Beweglicher Ferientag: Tag vor dem 1. Mai
DESCRIPTION:
URL:https://schulen-treis-karden.de/event/beweglicher-ferientag-tag-vor-dem-1-mai/
CATEGORIES:Ferien
END:VEVENT
END:VCALENDAR