BEGIN:VCALENDAR
VERSION:2.0
PRODID:-//Konrad-Adenauer-Schule - ECPv6.2.6//NONSGML v1.0//EN
CALSCALE:GREGORIAN
METHOD:PUBLISH
X-WR-CALNAME:Konrad-Adenauer-Schule
X-ORIGINAL-URL:https://schulen-treis-karden.de
X-WR-CALDESC:Veranstaltungen für Konrad-Adenauer-Schule
REFRESH-INTERVAL;VALUE=DURATION:PT1H
X-Robots-Tag:noindex
X-PUBLISHED-TTL:PT1H
BEGIN:VTIMEZONE
TZID:Europe/Berlin
BEGIN:DAYLIGHT
TZOFFSETFROM:+0100
TZOFFSETTO:+0200
TZNAME:CEST
DTSTART:20180325T010000
END:DAYLIGHT
BEGIN:STANDARD
TZOFFSETFROM:+0200
TZOFFSETTO:+0100
TZNAME:CET
DTSTART:20181028T010000
END:STANDARD
END:VTIMEZONE
BEGIN:VEVENT
DTSTART;VALUE=DATE:20181001
DTEND;VALUE=DATE:20181014
DTSTAMP:20260423T211743
CREATED:20171119T005311Z
LAST-MODIFIED:20171119T010746Z
UID:12173-1538352000-1539475199@schulen-treis-karden.de
SUMMARY:Herbstferien 2018 Rheinland-Pfalz
DESCRIPTION:Herbstferien 2018 Rheinland-Pfalz
URL:https://schulen-treis-karden.de/event/herbstferien-2018-rheinland-pfalz/
CATEGORIES:Ferien
END:VEVENT
BEGIN:VEVENT
DTSTART;TZID=Europe/Berlin:20181015T095000
DTEND;TZID=Europe/Berlin:20181015T112500
DTSTAMP:20260423T211743
CREATED:20180428T111924Z
LAST-MODIFIED:20180428T111924Z
UID:12990-1539597000-1539602700@schulen-treis-karden.de
SUMMARY:Hein Knack - Theater Kl. 5a und 5b
DESCRIPTION:
URL:https://schulen-treis-karden.de/event/hein-knack-theater-kl-5a-und-5b-2/
END:VEVENT
BEGIN:VEVENT
DTSTART;VALUE=DATE:20181017
DTEND;VALUE=DATE:20181020
DTSTAMP:20260423T211743
CREATED:20180428T112032Z
LAST-MODIFIED:20180428T112032Z
UID:12992-1539734400-1539993599@schulen-treis-karden.de
SUMMARY:Tag der Berufs- und Studienorientierung Kl. 8a und 8b
DESCRIPTION:
URL:https://schulen-treis-karden.de/event/tag-der-berufs-und-studienorientierung-kl-8a-und-8b/
END:VEVENT
BEGIN:VEVENT
DTSTART;VALUE=DATE:20181023
DTEND;VALUE=DATE:20181025
DTSTAMP:20260423T211743
CREATED:20180430T153003Z
LAST-MODIFIED:20180430T153003Z
UID:12999-1540252800-1540425599@schulen-treis-karden.de
SUMMARY:Schulfotograf
DESCRIPTION:
URL:https://schulen-treis-karden.de/event/schulfotograf-3/
END:VEVENT
END:VCALENDAR