BEGIN:VCALENDAR
VERSION:2.0
PRODID:-//Konrad-Adenauer-Schule - ECPv6.2.6//NONSGML v1.0//EN
CALSCALE:GREGORIAN
METHOD:PUBLISH
X-WR-CALNAME:Konrad-Adenauer-Schule
X-ORIGINAL-URL:https://schulen-treis-karden.de
X-WR-CALDESC:Veranstaltungen für Konrad-Adenauer-Schule
REFRESH-INTERVAL;VALUE=DURATION:PT1H
X-Robots-Tag:noindex
X-PUBLISHED-TTL:PT1H
BEGIN:VTIMEZONE
TZID:Europe/Berlin
BEGIN:DAYLIGHT
TZOFFSETFROM:+0100
TZOFFSETTO:+0200
TZNAME:CEST
DTSTART:20180325T010000
END:DAYLIGHT
BEGIN:STANDARD
TZOFFSETFROM:+0200
TZOFFSETTO:+0100
TZNAME:CET
DTSTART:20181028T010000
END:STANDARD
END:VTIMEZONE
BEGIN:VEVENT
DTSTART;VALUE=DATE:20180326
DTEND;VALUE=DATE:20180408
DTSTAMP:20260425T155346
CREATED:20171119T005309Z
LAST-MODIFIED:20171119T010746Z
UID:12171-1522022400-1523145599@schulen-treis-karden.de
SUMMARY:Osterferien 2018 Rheinland-Pfalz
DESCRIPTION:Osterferien 2018 Rheinland-Pfalz
URL:https://schulen-treis-karden.de/event/osterferien-2018-rheinland-pfalz/
CATEGORIES:Ferien
END:VEVENT
BEGIN:VEVENT
DTSTART;VALUE=DATE:20180410
DTEND;VALUE=DATE:20180414
DTSTAMP:20260425T155346
CREATED:20171119T004727Z
LAST-MODIFIED:20180315T193416Z
UID:12157-1523318400-1523663999@schulen-treis-karden.de
SUMMARY:Klassenfahrt Kl. 7a
DESCRIPTION:Klassenfahrt Kl. 7a
URL:https://schulen-treis-karden.de/event/klassenfahrt-kl-7a-2/
CATEGORIES:Termine
END:VEVENT
BEGIN:VEVENT
DTSTART;VALUE=DATE:20180417
DTEND;VALUE=DATE:20180418
DTSTAMP:20260425T155346
CREATED:20180208T133620Z
LAST-MODIFIED:20180208T133620Z
UID:12806-1523923200-1524009599@schulen-treis-karden.de
SUMMARY:Vera 3/ Mathe
DESCRIPTION:
URL:https://schulen-treis-karden.de/event/vera-3-mathe/
END:VEVENT
BEGIN:VEVENT
DTSTART;TZID=Europe/Berlin:20180417T080000
DTEND;TZID=Europe/Berlin:20180417T090000
DTSTAMP:20260425T155346
CREATED:20180411T122233Z
LAST-MODIFIED:20180411T122233Z
UID:12904-1523952000-1523955600@schulen-treis-karden.de
SUMMARY:Gottesdienst Grundschule
DESCRIPTION:
URL:https://schulen-treis-karden.de/event/gottesdienst-grundschule/
END:VEVENT
BEGIN:VEVENT
DTSTART;VALUE=DATE:20180419
DTEND;VALUE=DATE:20180420
DTSTAMP:20260425T155346
CREATED:20180208T133451Z
LAST-MODIFIED:20180208T133451Z
UID:12804-1524096000-1524182399@schulen-treis-karden.de
SUMMARY:Vera 3/ Deutsch Lesen
DESCRIPTION:
URL:https://schulen-treis-karden.de/event/vera-3-deutsch-lesen/
END:VEVENT
BEGIN:VEVENT
DTSTART;VALUE=DATE:20180426
DTEND;VALUE=DATE:20180428
DTSTAMP:20260425T155346
CREATED:20180124T110626Z
LAST-MODIFIED:20180124T110626Z
UID:12735-1524700800-1524873599@schulen-treis-karden.de
SUMMARY:Potenzialanalyse Kl. 7a und 7b
DESCRIPTION:
URL:https://schulen-treis-karden.de/event/potenzialanalyse-kl-7a-und-7b/
END:VEVENT
BEGIN:VEVENT
DTSTART;VALUE=DATE:20180426
DTEND;VALUE=DATE:20180427
DTSTAMP:20260425T155346
CREATED:20180208T133400Z
LAST-MODIFIED:20180208T133400Z
UID:12802-1524700800-1524787199@schulen-treis-karden.de
SUMMARY:Girls-Day und Boys-Day
DESCRIPTION:
URL:https://schulen-treis-karden.de/event/girls-day-und-boys-day/
END:VEVENT
END:VCALENDAR