BEGIN:VCALENDAR
VERSION:2.0
PRODID:-//Konrad-Adenauer-Schule - ECPv6.2.6//NONSGML v1.0//EN
CALSCALE:GREGORIAN
METHOD:PUBLISH
X-ORIGINAL-URL:https://schulen-treis-karden.de
X-WR-CALDESC:Veranstaltungen für Konrad-Adenauer-Schule
REFRESH-INTERVAL;VALUE=DURATION:PT1H
X-Robots-Tag:noindex
X-PUBLISHED-TTL:PT1H
BEGIN:VTIMEZONE
TZID:Europe/Berlin
BEGIN:DAYLIGHT
TZOFFSETFROM:+0100
TZOFFSETTO:+0200
TZNAME:CEST
DTSTART:20180325T010000
END:DAYLIGHT
BEGIN:STANDARD
TZOFFSETFROM:+0200
TZOFFSETTO:+0100
TZNAME:CET
DTSTART:20181028T010000
END:STANDARD
END:VTIMEZONE
BEGIN:VEVENT
DTSTART;VALUE=DATE:20180201
DTEND;VALUE=DATE:20180202
DTSTAMP:20260425T190346
CREATED:20180125T120727Z
LAST-MODIFIED:20180125T120727Z
UID:12737-1517443200-1517529599@schulen-treis-karden.de
SUMMARY:Berufsberatung Kl. 10 mit Herrn Weidenfeller
DESCRIPTION:
URL:https://schulen-treis-karden.de/event/berufsberatung-kl-10-mit-herrn-weidenfeller/
END:VEVENT
BEGIN:VEVENT
DTSTART;VALUE=DATE:20180201
DTEND;VALUE=DATE:20180202
DTSTAMP:20260425T190346
CREATED:20180125T120841Z
LAST-MODIFIED:20180125T120841Z
UID:12739-1517443200-1517529599@schulen-treis-karden.de
SUMMARY:Präventionskino in Cochem Kl. 8a\, 9a\, 9b
DESCRIPTION:
URL:https://schulen-treis-karden.de/event/praeventionskino-in-cochem-kl-8a-9a-9b/
END:VEVENT
BEGIN:VEVENT
DTSTART;VALUE=DATE:20180209
DTEND;VALUE=DATE:20180210
DTSTAMP:20260425T190346
CREATED:20171119T010539Z
LAST-MODIFIED:20171119T010539Z
UID:12179-1518134400-1518220799@schulen-treis-karden.de
SUMMARY:Bewegl. Ferientag Karneval
DESCRIPTION:Bewegl. Ferientag Karneval
URL:https://schulen-treis-karden.de/event/bewegl-ferientag-karneval/
CATEGORIES:Feiertage
END:VEVENT
BEGIN:VEVENT
DTSTART;VALUE=DATE:20180212
DTEND;VALUE=DATE:20180213
DTSTAMP:20260425T190346
CREATED:20171119T010539Z
LAST-MODIFIED:20171119T010539Z
UID:12180-1518393600-1518479999@schulen-treis-karden.de
SUMMARY:Bewegl. Ferientag Rosenmontag
DESCRIPTION:Bewegl. Ferientag Rosenmontag
URL:https://schulen-treis-karden.de/event/bewegl-ferientag-rosenmontag/
CATEGORIES:Feiertage
END:VEVENT
BEGIN:VEVENT
DTSTART;VALUE=DATE:20180213
DTEND;VALUE=DATE:20180214
DTSTAMP:20260425T190346
CREATED:20171119T010539Z
LAST-MODIFIED:20171119T010539Z
UID:12181-1518480000-1518566399@schulen-treis-karden.de
SUMMARY:Bewegl. Ferientag Veilchendienstag
DESCRIPTION:Bewegl. Ferientag Veilchendienstag
URL:https://schulen-treis-karden.de/event/bewegl-ferientag-veilchendienstag/
CATEGORIES:Feiertage
END:VEVENT
BEGIN:VEVENT
DTSTART;VALUE=DATE:20180215
DTEND;VALUE=DATE:20180216
DTSTAMP:20260425T190346
CREATED:20180131T094731Z
LAST-MODIFIED:20180131T094731Z
UID:12757-1518652800-1518739199@schulen-treis-karden.de
SUMMARY:Oral exams Kl. 9b
DESCRIPTION:
URL:https://schulen-treis-karden.de/event/oral-exams-kl-9b/
END:VEVENT
BEGIN:VEVENT
DTSTART;VALUE=DATE:20180220
DTEND;VALUE=DATE:20180221
DTSTAMP:20260425T190346
CREATED:20180127T090603Z
LAST-MODIFIED:20180127T090603Z
UID:12744-1519084800-1519171199@schulen-treis-karden.de
SUMMARY:Kl. 8b Besuch der Rheinzeitung in Cochem
DESCRIPTION:
URL:https://schulen-treis-karden.de/event/kl-8b-besuch-der-rheinzeitung-in-cochem/
END:VEVENT
BEGIN:VEVENT
DTSTART;VALUE=DATE:20180220
DTEND;VALUE=DATE:20180222
DTSTAMP:20260425T190346
CREATED:20180131T094824Z
LAST-MODIFIED:20180131T094824Z
UID:12759-1519084800-1519257599@schulen-treis-karden.de
SUMMARY:Oral exams Kl. 9b
DESCRIPTION:
URL:https://schulen-treis-karden.de/event/oral-exams-kl-9b-2/
END:VEVENT
BEGIN:VEVENT
DTSTART;TZID=Europe/Berlin:20180220T090000
DTEND;TZID=Europe/Berlin:20180220T120000
DTSTAMP:20260425T190346
CREATED:20180205T133253Z
LAST-MODIFIED:20180205T134840Z
UID:12763-1519117200-1519128000@schulen-treis-karden.de
SUMMARY:Anmeldung Kann-Kinder
DESCRIPTION:
URL:https://schulen-treis-karden.de/event/anmeldung-kann-kinder/
END:VEVENT
BEGIN:VEVENT
DTSTART;TZID=Europe/Berlin:20180221T094500
DTEND;TZID=Europe/Berlin:20180221T113000
DTSTAMP:20260425T190346
CREATED:20180127T090732Z
LAST-MODIFIED:20180127T090732Z
UID:12746-1519206300-1519212600@schulen-treis-karden.de
SUMMARY:Vera 8 Kl. 8a und 8b
DESCRIPTION:
URL:https://schulen-treis-karden.de/event/vera-8-kl-8a-und-8b/
END:VEVENT
BEGIN:VEVENT
DTSTART;VALUE=DATE:20180222
DTEND;VALUE=DATE:20180223
DTSTAMP:20260425T190346
CREATED:20171119T004726Z
LAST-MODIFIED:20171119T011309Z
UID:12155-1519257600-1519343999@schulen-treis-karden.de
SUMMARY:Tag der Studienorientierung Kl. 8a und 8b
DESCRIPTION:Tag der Studienorientierung Kl. 8a und 8b
URL:https://schulen-treis-karden.de/event/tag-der-studienorientierung-kl-8a-und-8b-2/
CATEGORIES:Termine
END:VEVENT
BEGIN:VEVENT
DTSTART;VALUE=DATE:20180226
DTEND;VALUE=DATE:20180301
DTSTAMP:20260425T190346
CREATED:20180122T162522Z
LAST-MODIFIED:20180122T162522Z
UID:12732-1519603200-1519862399@schulen-treis-karden.de
SUMMARY:Jedem Kind seine Kunst - Kl. 9b
DESCRIPTION:
URL:https://schulen-treis-karden.de/event/jedem-kind-seine-kunst-kl-9b/
END:VEVENT
END:VCALENDAR