BEGIN:VCALENDAR
VERSION:2.0
PRODID:-//Konrad-Adenauer-Schule - ECPv6.2.6//NONSGML v1.0//EN
CALSCALE:GREGORIAN
METHOD:PUBLISH
X-WR-CALNAME:Konrad-Adenauer-Schule
X-ORIGINAL-URL:https://schulen-treis-karden.de
X-WR-CALDESC:Veranstaltungen für Konrad-Adenauer-Schule
REFRESH-INTERVAL;VALUE=DURATION:PT1H
X-Robots-Tag:noindex
X-PUBLISHED-TTL:PT1H
BEGIN:VTIMEZONE
TZID:Europe/Berlin
BEGIN:DAYLIGHT
TZOFFSETFROM:+0100
TZOFFSETTO:+0200
TZNAME:CEST
DTSTART:20170326T010000
END:DAYLIGHT
BEGIN:STANDARD
TZOFFSETFROM:+0200
TZOFFSETTO:+0100
TZNAME:CET
DTSTART:20171029T010000
END:STANDARD
BEGIN:DAYLIGHT
TZOFFSETFROM:+0100
TZOFFSETTO:+0200
TZNAME:CEST
DTSTART:20180325T010000
END:DAYLIGHT
BEGIN:STANDARD
TZOFFSETFROM:+0200
TZOFFSETTO:+0100
TZNAME:CET
DTSTART:20181028T010000
END:STANDARD
END:VTIMEZONE
BEGIN:VEVENT
DTSTART;VALUE=DATE:20171222
DTEND;VALUE=DATE:20180110
DTSTAMP:20260425T201616
CREATED:20171119T005309Z
LAST-MODIFIED:20171208T065617Z
UID:12170-1513900800-1515542399@schulen-treis-karden.de
SUMMARY:Weihnachtsferien 2017-2018 Rheinland-Pfalz
DESCRIPTION:Weihnachtsferien 2017-2018 Rheinland-Pfalz
URL:https://schulen-treis-karden.de/event/weihnachtsferien-2017-rheinland-pfalz/
CATEGORIES:Ferien
END:VEVENT
BEGIN:VEVENT
DTSTART;VALUE=DATE:20180117
DTEND;VALUE=DATE:20180118
DTSTAMP:20260425T201616
CREATED:20171119T004723Z
LAST-MODIFIED:20171119T011212Z
UID:12150-1516147200-1516233599@schulen-treis-karden.de
SUMMARY:Handhygieneschulung Kl. 1
DESCRIPTION:Handhygieneschulung Kl. 1
URL:https://schulen-treis-karden.de/event/handhygieneschulung-kl-1-2/
CATEGORIES:Termine
END:VEVENT
BEGIN:VEVENT
DTSTART;VALUE=DATE:20180122
DTEND;VALUE=DATE:20180123
DTSTAMP:20260425T201616
CREATED:20171119T004723Z
LAST-MODIFIED:20171119T011212Z
UID:12151-1516579200-1516665599@schulen-treis-karden.de
SUMMARY:Eltern-Schüler-Lehrer-Gespräche der Grundschule
DESCRIPTION:Eltern-Schüler-Lehrer-Gespräche der Grundschule
URL:https://schulen-treis-karden.de/event/eltern-schueler-lehrer-gespraeche-der-grundschule-3/
CATEGORIES:Termine
END:VEVENT
BEGIN:VEVENT
DTSTART;VALUE=DATE:20180123
DTEND;VALUE=DATE:20180127
DTSTAMP:20260425T201616
CREATED:20171119T004725Z
LAST-MODIFIED:20171119T011212Z
UID:12152-1516665600-1517011199@schulen-treis-karden.de
SUMMARY:Eltern-Schüler-Lehrer-Gespräche der Grundschule
DESCRIPTION:Eltern-Schüler-Lehrer-Gespräche der Grundschule
URL:https://schulen-treis-karden.de/event/eltern-schueler-lehrer-gespraeche-der-grundschule-4/
CATEGORIES:Termine
END:VEVENT
BEGIN:VEVENT
DTSTART;TZID=Europe/Berlin:20180124T094500
DTEND;TZID=Europe/Berlin:20180124T103500
DTSTAMP:20260425T201616
CREATED:20180120T081705Z
LAST-MODIFIED:20180120T081705Z
UID:12729-1516787100-1516790100@schulen-treis-karden.de
SUMMARY:Handhygieneschulung Kl. 5b
DESCRIPTION:
URL:https://schulen-treis-karden.de/event/handhygieneschulung-kl-5b-3/
END:VEVENT
BEGIN:VEVENT
DTSTART;VALUE=DATE:20180126
DTEND;VALUE=DATE:20180127
DTSTAMP:20260425T201616
CREATED:20171119T004726Z
LAST-MODIFIED:20171119T011309Z
UID:12154-1516924800-1517011199@schulen-treis-karden.de
SUMMARY:Ausgabe der Halbjahreszeugnisse
DESCRIPTION:Ausgabe der Halbjahreszeugnisse
URL:https://schulen-treis-karden.de/event/ausgabe-der-halbjahreszeugnisse-2/
CATEGORIES:Termine
END:VEVENT
END:VCALENDAR