BEGIN:VCALENDAR
VERSION:2.0
PRODID:-//Konrad-Adenauer-Schule - ECPv6.2.6//NONSGML v1.0//EN
CALSCALE:GREGORIAN
METHOD:PUBLISH
X-ORIGINAL-URL:https://schulen-treis-karden.de
X-WR-CALDESC:Veranstaltungen für Konrad-Adenauer-Schule
REFRESH-INTERVAL;VALUE=DURATION:PT1H
X-Robots-Tag:noindex
X-PUBLISHED-TTL:PT1H
BEGIN:VTIMEZONE
TZID:Europe/Berlin
BEGIN:DAYLIGHT
TZOFFSETFROM:+0100
TZOFFSETTO:+0200
TZNAME:CEST
DTSTART:20170326T010000
END:DAYLIGHT
BEGIN:STANDARD
TZOFFSETFROM:+0200
TZOFFSETTO:+0100
TZNAME:CET
DTSTART:20171029T010000
END:STANDARD
BEGIN:DAYLIGHT
TZOFFSETFROM:+0100
TZOFFSETTO:+0200
TZNAME:CEST
DTSTART:20180325T010000
END:DAYLIGHT
BEGIN:STANDARD
TZOFFSETFROM:+0200
TZOFFSETTO:+0100
TZNAME:CET
DTSTART:20181028T010000
END:STANDARD
END:VTIMEZONE
BEGIN:VEVENT
DTSTART;VALUE=DATE:20171201
DTEND;VALUE=DATE:20171202
DTSTAMP:20260425T214421
CREATED:20171119T004721Z
LAST-MODIFIED:20171119T011212Z
UID:12144-1512086400-1512172799@schulen-treis-karden.de
SUMMARY:Fritz-Walter-Cup Kl. 5-7
DESCRIPTION:Fritz-Walter-Cup Kl. 5-7
URL:https://schulen-treis-karden.de/event/fritz-walter-cup-kl-5-7-4/
CATEGORIES:Termine
END:VEVENT
BEGIN:VEVENT
DTSTART;TZID=Europe/Berlin:20171204T190000
DTEND;TZID=Europe/Berlin:20171204T210000
DTSTAMP:20260425T214421
CREATED:20171128T123116Z
LAST-MODIFIED:20171128T123116Z
UID:12425-1512414000-1512421200@schulen-treis-karden.de
SUMMARY:Mitgliederversammlung des Fördervereins
DESCRIPTION:
URL:https://schulen-treis-karden.de/event/mitgliederversammlung-des-foerdervereins/
END:VEVENT
BEGIN:VEVENT
DTSTART;VALUE=DATE:20171205
DTEND;VALUE=DATE:20171206
DTSTAMP:20260425T214421
CREATED:20171119T004721Z
LAST-MODIFIED:20171119T011212Z
UID:12145-1512432000-1512518399@schulen-treis-karden.de
SUMMARY:Schulgottesdienst der Grundschule
DESCRIPTION:Schulgottesdienst der Grundschule
URL:https://schulen-treis-karden.de/event/schulgottesdienst-der-grundschule-8/
CATEGORIES:Termine
END:VEVENT
BEGIN:VEVENT
DTSTART;TZID=Europe/Berlin:20171206T090000
DTEND;TZID=Europe/Berlin:20171206T103500
DTSTAMP:20260425T214421
CREATED:20171119T004721Z
LAST-MODIFIED:20171119T011212Z
UID:12146-1512550800-1512556500@schulen-treis-karden.de
SUMMARY:Vorlesewettbewerb der 6. Klassen
DESCRIPTION:Vorlesewettbewerb der 6. Klassen
URL:https://schulen-treis-karden.de/event/vorlesewettbewerb-der-6-klassen-2/
CATEGORIES:Termine
END:VEVENT
BEGIN:VEVENT
DTSTART;TZID=Europe/Berlin:20171207T090000
DTEND;TZID=Europe/Berlin:20171207T103000
DTSTAMP:20260425T214421
CREATED:20171119T004722Z
LAST-MODIFIED:20171119T011212Z
UID:12147-1512637200-1512642600@schulen-treis-karden.de
SUMMARY:Mathewettbewerb 'Zahlenteufel' Klassen 5a und 5b
DESCRIPTION:Mathewettbewerb ‚Zahlenteufel‘ Klassen 5a und 5b
URL:https://schulen-treis-karden.de/event/mathewettbewerb-zahlenteufel-klassen-5a-und-5b-2/
CATEGORIES:Termine
END:VEVENT
BEGIN:VEVENT
DTSTART;TZID=Europe/Berlin:20171212T080000
DTEND;TZID=Europe/Berlin:20171212T113000
DTSTAMP:20260425T214421
CREATED:20171129T131529Z
LAST-MODIFIED:20171129T131529Z
UID:12439-1513065600-1513078200@schulen-treis-karden.de
SUMMARY:Kl. 8b mit Kindern der Kita in Turnhalle
DESCRIPTION:
URL:https://schulen-treis-karden.de/event/kl-8b-mit-kindern-der-kita-in-turnhalle/
END:VEVENT
BEGIN:VEVENT
DTSTART;TZID=Europe/Berlin:20171218T094500
DTEND;TZID=Europe/Berlin:20171218T133000
DTSTAMP:20260425T214421
CREATED:20171126T230040Z
LAST-MODIFIED:20171211T093137Z
UID:12373-1513590300-1513603800@schulen-treis-karden.de
SUMMARY:Patentag der Klassen 5 und 10
DESCRIPTION:
URL:https://schulen-treis-karden.de/event/patentag-der-klassen-5-und-10/
CATEGORIES:Termine
END:VEVENT
BEGIN:VEVENT
DTSTART;TZID=Europe/Berlin:20171219T094500
DTEND;TZID=Europe/Berlin:20171219T113000
DTSTAMP:20260425T214421
CREATED:20171206T130633Z
LAST-MODIFIED:20171206T130633Z
UID:12567-1513676700-1513683000@schulen-treis-karden.de
SUMMARY:Weihnachtssingen im Altenheim Treis-Karden
DESCRIPTION:
URL:https://schulen-treis-karden.de/event/weihnachtssingen-im-altenheim-treis-karden/
END:VEVENT
BEGIN:VEVENT
DTSTART;TZID=Europe/Berlin:20171219T110000
DTEND;TZID=Europe/Berlin:20171219T130000
DTSTAMP:20260425T214421
CREATED:20171119T004723Z
LAST-MODIFIED:20171119T011212Z
UID:12148-1513681200-1513688400@schulen-treis-karden.de
SUMMARY:Theateraufführung in der Grundschule
DESCRIPTION:Theateraufführung in der Grundschule
URL:https://schulen-treis-karden.de/event/theaterauffuehrung-in-der-grundschule-2/
CATEGORIES:Termine
END:VEVENT
BEGIN:VEVENT
DTSTART;VALUE=DATE:20171221
DTEND;VALUE=DATE:20171222
DTSTAMP:20260425T214421
CREATED:20171119T004723Z
LAST-MODIFIED:20171119T011212Z
UID:12149-1513814400-1513900799@schulen-treis-karden.de
SUMMARY:Adventsgottesdienst der Grundschule
DESCRIPTION:Adventsgottesdienst der Grundschule
URL:https://schulen-treis-karden.de/event/adventsgottesdienst-der-grundschule-2/
CATEGORIES:Termine
END:VEVENT
BEGIN:VEVENT
DTSTART;VALUE=DATE:20171222
DTEND;VALUE=DATE:20180110
DTSTAMP:20260425T214421
CREATED:20171119T005309Z
LAST-MODIFIED:20171208T065617Z
UID:12170-1513900800-1515542399@schulen-treis-karden.de
SUMMARY:Weihnachtsferien 2017-2018 Rheinland-Pfalz
DESCRIPTION:Weihnachtsferien 2017-2018 Rheinland-Pfalz
URL:https://schulen-treis-karden.de/event/weihnachtsferien-2017-rheinland-pfalz/
CATEGORIES:Ferien
END:VEVENT
END:VCALENDAR