BEGIN:VCALENDAR
VERSION:2.0
PRODID:-//Konrad-Adenauer-Schule - ECPv6.2.6//NONSGML v1.0//EN
CALSCALE:GREGORIAN
METHOD:PUBLISH
X-WR-CALNAME:Konrad-Adenauer-Schule
X-ORIGINAL-URL:https://schulen-treis-karden.de
X-WR-CALDESC:Veranstaltungen für Konrad-Adenauer-Schule
REFRESH-INTERVAL;VALUE=DURATION:PT1H
X-Robots-Tag:noindex
X-PUBLISHED-TTL:PT1H
BEGIN:VTIMEZONE
TZID:Europe/Berlin
BEGIN:DAYLIGHT
TZOFFSETFROM:+0100
TZOFFSETTO:+0200
TZNAME:CEST
DTSTART:20170326T010000
END:DAYLIGHT
BEGIN:STANDARD
TZOFFSETFROM:+0200
TZOFFSETTO:+0100
TZNAME:CET
DTSTART:20171029T010000
END:STANDARD
END:VTIMEZONE
BEGIN:VEVENT
DTSTART;VALUE=DATE:20171031
DTEND;VALUE=DATE:20171101
DTSTAMP:20260425T231447
CREATED:20171119T004714Z
LAST-MODIFIED:20171119T011039Z
UID:12129-1509408000-1509494399@schulen-treis-karden.de
SUMMARY:Reformationstag
DESCRIPTION:Reformationstag
URL:https://schulen-treis-karden.de/event/reformationstag-2/
CATEGORIES:Feiertage
END:VEVENT
BEGIN:VEVENT
DTSTART;VALUE=DATE:20171101
DTEND;VALUE=DATE:20171102
DTSTAMP:20260425T231447
CREATED:20171119T004715Z
LAST-MODIFIED:20171119T011039Z
UID:12130-1509494400-1509580799@schulen-treis-karden.de
SUMMARY:Allerheiligen
DESCRIPTION:Allerheiligen
URL:https://schulen-treis-karden.de/event/allerheiligen-2/
CATEGORIES:Feiertage
END:VEVENT
BEGIN:VEVENT
DTSTART;VALUE=DATE:20171107
DTEND;VALUE=DATE:20171108
DTSTAMP:20260425T231447
CREATED:20171119T004715Z
LAST-MODIFIED:20171119T011008Z
UID:12131-1510012800-1510099199@schulen-treis-karden.de
SUMMARY:Schulgottesdienst der Grundschule
DESCRIPTION:Schulgottesdienst der Grundschule
URL:https://schulen-treis-karden.de/event/schulgottesdienst-der-grundschule-6/
CATEGORIES:Termine
END:VEVENT
BEGIN:VEVENT
DTSTART;TZID=Europe/Berlin:20171109T090000
DTEND;TZID=Europe/Berlin:20171109T100000
DTSTAMP:20260425T231447
CREATED:20171119T004717Z
LAST-MODIFIED:20171119T011008Z
UID:12132-1510218000-1510221600@schulen-treis-karden.de
SUMMARY:Politikerbesuchstag am 9. November - Kl. 9b und 10
DESCRIPTION:Politikerbesuchstag am 9. November – Kl. 9b und 10
URL:https://schulen-treis-karden.de/event/politikerbesuchstag-am-9-november-kl-9b-und-10-2/
CATEGORIES:Termine
END:VEVENT
BEGIN:VEVENT
DTSTART;VALUE=DATE:20171113
DTEND;VALUE=DATE:20171114
DTSTAMP:20260425T231447
CREATED:20171119T004717Z
LAST-MODIFIED:20171119T011008Z
UID:12133-1510531200-1510617599@schulen-treis-karden.de
SUMMARY:Kinderakademie Kl. 7b
DESCRIPTION:Kinderakademie Kl. 7b
URL:https://schulen-treis-karden.de/event/kinderakademie-kl-7b-2/
CATEGORIES:Termine
END:VEVENT
BEGIN:VEVENT
DTSTART;VALUE=DATE:20171115
DTEND;VALUE=DATE:20171116
DTSTAMP:20260425T231447
CREATED:20171119T004717Z
LAST-MODIFIED:20171119T011008Z
UID:12134-1510704000-1510790399@schulen-treis-karden.de
SUMMARY:Cinéfête
DESCRIPTION:Cinéfête
URL:https://schulen-treis-karden.de/event/cinefete-2/
CATEGORIES:Termine
END:VEVENT
BEGIN:VEVENT
DTSTART;TZID=Europe/Berlin:20171117T110000
DTEND;TZID=Europe/Berlin:20171117T130000
DTSTAMP:20260425T231447
CREATED:20171119T004717Z
LAST-MODIFIED:20171119T011213Z
UID:12135-1510916400-1510923600@schulen-treis-karden.de
SUMMARY:Vorlesetag 1. Klasse
DESCRIPTION:Vorlesetag 1. Klasse
URL:https://schulen-treis-karden.de/event/vorlesetag-1-klasse-2/
CATEGORIES:Termine
END:VEVENT
BEGIN:VEVENT
DTSTART;TZID=Europe/Berlin:20171118T100000
DTEND;TZID=Europe/Berlin:20171118T220000
DTSTAMP:20260425T231447
CREATED:20171119T004718Z
LAST-MODIFIED:20171119T011213Z
UID:12136-1510999200-1511042400@schulen-treis-karden.de
SUMMARY:Tag der offenen Tür
DESCRIPTION:Tag der offenen Tür
URL:https://schulen-treis-karden.de/event/tag-der-offenen-tuer-2/
CATEGORIES:Termine
END:VEVENT
BEGIN:VEVENT
DTSTART;VALUE=DATE:20171120
DTEND;VALUE=DATE:20171121
DTSTAMP:20260425T231447
CREATED:20171119T004719Z
LAST-MODIFIED:20171119T011213Z
UID:12137-1511136000-1511222399@schulen-treis-karden.de
SUMMARY:Rollende Waldschule Kl. 3\, 4\, 5 und 6
DESCRIPTION:Rollende Waldschule Kl. 3\, 4\, 5 und 6
URL:https://schulen-treis-karden.de/event/rollende-waldschule-kl-3-4-5-und-6-2/
CATEGORIES:Termine
END:VEVENT
BEGIN:VEVENT
DTSTART;VALUE=DATE:20171121
DTEND;VALUE=DATE:20171122
DTSTAMP:20260425T231447
CREATED:20171119T004719Z
LAST-MODIFIED:20171119T011213Z
UID:12138-1511222400-1511308799@schulen-treis-karden.de
SUMMARY:Schulgottesdienst der Grundschule
DESCRIPTION:Schulgottesdienst der Grundschule
URL:https://schulen-treis-karden.de/event/schulgottesdienst-der-grundschule-7/
CATEGORIES:Termine
END:VEVENT
BEGIN:VEVENT
DTSTART;VALUE=DATE:20171122
DTEND;VALUE=DATE:20171123
DTSTAMP:20260425T231447
CREATED:20171119T004719Z
LAST-MODIFIED:20171119T011213Z
UID:12139-1511308800-1511395199@schulen-treis-karden.de
SUMMARY:Schulkinowoche Kl. 10
DESCRIPTION:Schulkinowoche Kl. 10
URL:https://schulen-treis-karden.de/event/schulkinowoche-kl-10-2/
CATEGORIES:Termine
END:VEVENT
BEGIN:VEVENT
DTSTART;VALUE=DATE:20171123
DTEND;VALUE=DATE:20171124
DTSTAMP:20260425T231447
CREATED:20171119T004719Z
LAST-MODIFIED:20171119T011213Z
UID:12140-1511395200-1511481599@schulen-treis-karden.de
SUMMARY:Repaircafe Kl. 4
DESCRIPTION:Repaircafe Kl. 4
URL:https://schulen-treis-karden.de/event/repaircafe-kl-4-2/
CATEGORIES:Termine
END:VEVENT
BEGIN:VEVENT
DTSTART;TZID=Europe/Berlin:20171123T130000
DTEND;TZID=Europe/Berlin:20171123T130000
DTSTAMP:20260425T231447
CREATED:20171126T225943Z
LAST-MODIFIED:20171126T225943Z
UID:12371-1511442000-1511442000@schulen-treis-karden.de
SUMMARY:Projekt "Schule und Steuern" Kl. 9a und 9b
DESCRIPTION:
URL:https://schulen-treis-karden.de/event/projekt-schule-und-steuern-kl-9a-und-9b/
CATEGORIES:Termine
END:VEVENT
BEGIN:VEVENT
DTSTART;VALUE=DATE:20171124
DTEND;VALUE=DATE:20171125
DTSTAMP:20260425T231447
CREATED:20171119T004719Z
LAST-MODIFIED:20171119T011213Z
UID:12141-1511481600-1511567999@schulen-treis-karden.de
SUMMARY:Elternsprechtag der Realschule plus
DESCRIPTION:Elternsprechtag der Realschule plus
URL:https://schulen-treis-karden.de/event/elternsprechtag-der-realschule-plus-2/
CATEGORIES:Termine
END:VEVENT
BEGIN:VEVENT
DTSTART;VALUE=DATE:20171127
DTEND;VALUE=DATE:20171128
DTSTAMP:20260425T231447
CREATED:20171119T004721Z
LAST-MODIFIED:20171119T011213Z
UID:12142-1511740800-1511827199@schulen-treis-karden.de
SUMMARY:Aidsprävention Kl. 9a und Kl. 10
DESCRIPTION:Aidsprävention Kl. 9a und Kl. 10
URL:https://schulen-treis-karden.de/event/aidspraevention-kl-9a-und-kl-10-2/
CATEGORIES:Termine
END:VEVENT
BEGIN:VEVENT
DTSTART;VALUE=DATE:20171128
DTEND;VALUE=DATE:20171129
DTSTAMP:20260425T231447
CREATED:20171119T004721Z
LAST-MODIFIED:20171119T011213Z
UID:12143-1511827200-1511913599@schulen-treis-karden.de
SUMMARY:Fritz-Walter-Cup Kl. 5-7
DESCRIPTION:Fritz-Walter-Cup Kl. 5-7
URL:https://schulen-treis-karden.de/event/fritz-walter-cup-kl-5-7-3/
CATEGORIES:Termine
END:VEVENT
END:VCALENDAR