BEGIN:VCALENDAR
VERSION:2.0
PRODID:-//Konrad-Adenauer-Schule - ECPv6.2.6//NONSGML v1.0//EN
CALSCALE:GREGORIAN
METHOD:PUBLISH
X-ORIGINAL-URL:https://schulen-treis-karden.de
X-WR-CALDESC:Veranstaltungen für Konrad-Adenauer-Schule
REFRESH-INTERVAL;VALUE=DURATION:PT1H
X-Robots-Tag:noindex
X-PUBLISHED-TTL:PT1H
BEGIN:VTIMEZONE
TZID:Europe/Berlin
BEGIN:DAYLIGHT
TZOFFSETFROM:+0100
TZOFFSETTO:+0200
TZNAME:CEST
DTSTART:20170326T010000
END:DAYLIGHT
BEGIN:STANDARD
TZOFFSETFROM:+0200
TZOFFSETTO:+0100
TZNAME:CET
DTSTART:20171029T010000
END:STANDARD
END:VTIMEZONE
BEGIN:VEVENT
DTSTART;VALUE=DATE:20171002
DTEND;VALUE=DATE:20171015
DTSTAMP:20260426T020510
CREATED:20171119T005308Z
LAST-MODIFIED:20171119T010932Z
UID:12169-1506902400-1508025599@schulen-treis-karden.de
SUMMARY:Herbstferien 2017 Rheinland-Pfalz
DESCRIPTION:Herbstferien 2017 Rheinland-Pfalz
URL:https://schulen-treis-karden.de/event/herbstferien-2017-rheinland-pfalz/
CATEGORIES:Ferien
END:VEVENT
BEGIN:VEVENT
DTSTART;VALUE=DATE:20171023
DTEND;VALUE=DATE:20171024
DTSTAMP:20260426T020510
CREATED:20171119T004711Z
LAST-MODIFIED:20171119T011009Z
UID:12123-1508716800-1508803199@schulen-treis-karden.de
SUMMARY:Radfahrausbildung Kl. 4a und 4b
DESCRIPTION:Radfahrausbildung Kl. 4a und 4b
URL:https://schulen-treis-karden.de/event/radfahrausbildung-kl-4a-und-4b-3/
CATEGORIES:Termine
END:VEVENT
BEGIN:VEVENT
DTSTART;VALUE=DATE:20171024
DTEND;VALUE=DATE:20171025
DTSTAMP:20260426T020510
CREATED:20171119T004711Z
LAST-MODIFIED:20171119T011009Z
UID:12124-1508803200-1508889599@schulen-treis-karden.de
SUMMARY:Schulgottesdienst der Grundschule
DESCRIPTION:Schulgottesdienst der Grundschule
URL:https://schulen-treis-karden.de/event/schulgottesdienst-der-grundschule-5/
CATEGORIES:Termine
END:VEVENT
BEGIN:VEVENT
DTSTART;VALUE=DATE:20171025
DTEND;VALUE=DATE:20171026
DTSTAMP:20260426T020510
CREATED:20171119T004712Z
LAST-MODIFIED:20171119T011008Z
UID:12125-1508889600-1508975999@schulen-treis-karden.de
SUMMARY:Schulfotograf
DESCRIPTION:Schulfotograf
URL:https://schulen-treis-karden.de/event/schulfotograf-2/
CATEGORIES:Termine
END:VEVENT
BEGIN:VEVENT
DTSTART;VALUE=DATE:20171026
DTEND;VALUE=DATE:20171027
DTSTAMP:20260426T020510
CREATED:20171119T004712Z
LAST-MODIFIED:20171119T011008Z
UID:12126-1508976000-1509062399@schulen-treis-karden.de
SUMMARY:Radfahrausbildung Kl. 3
DESCRIPTION:Radfahrausbildung Kl. 3
URL:https://schulen-treis-karden.de/event/radfahrausbildung-kl-3-2/
CATEGORIES:Termine
END:VEVENT
BEGIN:VEVENT
DTSTART;VALUE=DATE:20171027
DTEND;VALUE=DATE:20171028
DTSTAMP:20260426T020510
CREATED:20171119T004714Z
LAST-MODIFIED:20171119T011008Z
UID:12127-1509062400-1509148799@schulen-treis-karden.de
SUMMARY:Radfahrausbildung Kl. 4a und 4b
DESCRIPTION:Radfahrausbildung Kl. 4a und 4b
URL:https://schulen-treis-karden.de/event/radfahrausbildung-kl-4a-und-4b-4/
CATEGORIES:Termine
END:VEVENT
BEGIN:VEVENT
DTSTART;VALUE=DATE:20171030
DTEND;VALUE=DATE:20171031
DTSTAMP:20260426T020510
CREATED:20171119T004714Z
LAST-MODIFIED:20171119T010932Z
UID:12128-1509321600-1509407999@schulen-treis-karden.de
SUMMARY:Beweglicher Ferientag
DESCRIPTION:Beweglicher Ferientag
URL:https://schulen-treis-karden.de/event/beweglicher-ferientag-2/
CATEGORIES:Ferien
END:VEVENT
BEGIN:VEVENT
DTSTART;VALUE=DATE:20171031
DTEND;VALUE=DATE:20171101
DTSTAMP:20260426T020510
CREATED:20171119T004714Z
LAST-MODIFIED:20171119T011039Z
UID:12129-1509408000-1509494399@schulen-treis-karden.de
SUMMARY:Reformationstag
DESCRIPTION:Reformationstag
URL:https://schulen-treis-karden.de/event/reformationstag-2/
CATEGORIES:Feiertage
END:VEVENT
END:VCALENDAR