BEGIN:VCALENDAR
VERSION:2.0
PRODID:-//Konrad-Adenauer-Schule - ECPv6.2.6//NONSGML v1.0//EN
CALSCALE:GREGORIAN
METHOD:PUBLISH
X-WR-CALNAME:Konrad-Adenauer-Schule
X-ORIGINAL-URL:https://schulen-treis-karden.de
X-WR-CALDESC:Veranstaltungen für Konrad-Adenauer-Schule
REFRESH-INTERVAL;VALUE=DURATION:PT1H
X-Robots-Tag:noindex
X-PUBLISHED-TTL:PT1H
BEGIN:VTIMEZONE
TZID:Europe/Berlin
BEGIN:DAYLIGHT
TZOFFSETFROM:+0100
TZOFFSETTO:+0200
TZNAME:CEST
DTSTART:20180325T010000
END:DAYLIGHT
BEGIN:STANDARD
TZOFFSETFROM:+0200
TZOFFSETTO:+0100
TZNAME:CET
DTSTART:20181028T010000
END:STANDARD
END:VTIMEZONE
BEGIN:VEVENT
DTSTART;VALUE=DATE:20180618
DTEND;VALUE=DATE:20180620
DTSTAMP:20260425T140347
CREATED:20180216T161055Z
LAST-MODIFIED:20180216T161055Z
UID:12823-1529280000-1529452799@schulen-treis-karden.de
SUMMARY:Erste-Hilfe-Kurs / Schulsanitätsdienst
DESCRIPTION:
URL:https://schulen-treis-karden.de/event/erste-hilfe-kurs-schulsanitaetsdienst/
END:VEVENT
BEGIN:VEVENT
DTSTART;VALUE=DATE:20180618
DTEND;VALUE=DATE:20180620
DTSTAMP:20260425T140347
CREATED:20180421T105514Z
LAST-MODIFIED:20180503T155217Z
UID:12938-1529280000-1529452799@schulen-treis-karden.de
SUMMARY:Erste-Hilfe-Kurs Schulsanitätsdienst
DESCRIPTION:
URL:https://schulen-treis-karden.de/event/erste-hilfe-kurs-feuerwehrtechnik/
END:VEVENT
BEGIN:VEVENT
DTSTART;TZID=Europe/Berlin:20180619T080000
DTEND;TZID=Europe/Berlin:20180619T180000
DTSTAMP:20260425T140347
CREATED:20180514T121312Z
LAST-MODIFIED:20180514T121312Z
UID:13077-1529395200-1529431200@schulen-treis-karden.de
SUMMARY:Jumphouse Köln - Kl. 7b
DESCRIPTION:
URL:https://schulen-treis-karden.de/event/jumphouse-koeln-kl-7b/
END:VEVENT
BEGIN:VEVENT
DTSTART;TZID=Europe/Berlin:20180619T095000
DTEND;TZID=Europe/Berlin:20180619T112500
DTSTAMP:20260425T140347
CREATED:20180428T111319Z
LAST-MODIFIED:20180428T111319Z
UID:12982-1529401800-1529407500@schulen-treis-karden.de
SUMMARY:Hein Knack - Theater Kl. 5a und 5b
DESCRIPTION:
URL:https://schulen-treis-karden.de/event/hein-knack-theater-kl-5a-und-5b/
END:VEVENT
END:VCALENDAR