BEGIN:VCALENDAR
VERSION:2.0
PRODID:-//Konrad-Adenauer-Schule - ECPv6.2.6//NONSGML v1.0//EN
CALSCALE:GREGORIAN
METHOD:PUBLISH
X-ORIGINAL-URL:https://schulen-treis-karden.de
X-WR-CALDESC:Veranstaltungen für Konrad-Adenauer-Schule
REFRESH-INTERVAL;VALUE=DURATION:PT1H
X-Robots-Tag:noindex
X-PUBLISHED-TTL:PT1H
BEGIN:VTIMEZONE
TZID:Europe/Berlin
BEGIN:DAYLIGHT
TZOFFSETFROM:+0100
TZOFFSETTO:+0200
TZNAME:CEST
DTSTART:20180325T010000
END:DAYLIGHT
BEGIN:STANDARD
TZOFFSETFROM:+0200
TZOFFSETTO:+0100
TZNAME:CET
DTSTART:20181028T010000
END:STANDARD
END:VTIMEZONE
BEGIN:VEVENT
DTSTART;VALUE=DATE:20180605
DTEND;VALUE=DATE:20180608
DTSTAMP:20260425T141331
CREATED:20180113T090651Z
LAST-MODIFIED:20180113T090651Z
UID:12712-1528156800-1528415999@schulen-treis-karden.de
SUMMARY:Klassenfahrt Kl. 8b
DESCRIPTION:
URL:https://schulen-treis-karden.de/event/klassenfahrt-kl-8b/
END:VEVENT
BEGIN:VEVENT
DTSTART;VALUE=DATE:20180607
DTEND;VALUE=DATE:20180608
DTSTAMP:20260425T141331
CREATED:20180428T110837Z
LAST-MODIFIED:20180428T110837Z
UID:12980-1528329600-1528415999@schulen-treis-karden.de
SUMMARY:Ausflug MS Burgund - Kl. 7b
DESCRIPTION:
URL:https://schulen-treis-karden.de/event/ausflug-ms-burgund-kl-7b/
END:VEVENT
END:VCALENDAR