BEGIN:VCALENDAR
VERSION:2.0
PRODID:-//Konrad-Adenauer-Schule - ECPv6.2.6//NONSGML v1.0//EN
CALSCALE:GREGORIAN
METHOD:PUBLISH
X-WR-CALNAME:Konrad-Adenauer-Schule
X-ORIGINAL-URL:https://schulen-treis-karden.de
X-WR-CALDESC:Veranstaltungen für Konrad-Adenauer-Schule
REFRESH-INTERVAL;VALUE=DURATION:PT1H
X-Robots-Tag:noindex
X-PUBLISHED-TTL:PT1H
BEGIN:VTIMEZONE
TZID:Europe/Berlin
BEGIN:DAYLIGHT
TZOFFSETFROM:+0100
TZOFFSETTO:+0200
TZNAME:CEST
DTSTART:20180325T010000
END:DAYLIGHT
BEGIN:STANDARD
TZOFFSETFROM:+0200
TZOFFSETTO:+0100
TZNAME:CET
DTSTART:20181028T010000
END:STANDARD
END:VTIMEZONE
BEGIN:VEVENT
DTSTART;VALUE=DATE:20180220
DTEND;VALUE=DATE:20180221
DTSTAMP:20260425T201549
CREATED:20180127T090603Z
LAST-MODIFIED:20180127T090603Z
UID:12744-1519084800-1519171199@schulen-treis-karden.de
SUMMARY:Kl. 8b Besuch der Rheinzeitung in Cochem
DESCRIPTION:
URL:https://schulen-treis-karden.de/event/kl-8b-besuch-der-rheinzeitung-in-cochem/
END:VEVENT
BEGIN:VEVENT
DTSTART;VALUE=DATE:20180220
DTEND;VALUE=DATE:20180222
DTSTAMP:20260425T201549
CREATED:20180131T094824Z
LAST-MODIFIED:20180131T094824Z
UID:12759-1519084800-1519257599@schulen-treis-karden.de
SUMMARY:Oral exams Kl. 9b
DESCRIPTION:
URL:https://schulen-treis-karden.de/event/oral-exams-kl-9b-2/
END:VEVENT
BEGIN:VEVENT
DTSTART;TZID=Europe/Berlin:20180220T090000
DTEND;TZID=Europe/Berlin:20180220T120000
DTSTAMP:20260425T201549
CREATED:20180205T133253Z
LAST-MODIFIED:20180205T134840Z
UID:12763-1519117200-1519128000@schulen-treis-karden.de
SUMMARY:Anmeldung Kann-Kinder
DESCRIPTION:
URL:https://schulen-treis-karden.de/event/anmeldung-kann-kinder/
END:VEVENT
END:VCALENDAR