BEGIN:VCALENDAR
VERSION:2.0
PRODID:-//Konrad-Adenauer-Schule - ECPv6.2.6//NONSGML v1.0//EN
CALSCALE:GREGORIAN
METHOD:PUBLISH
X-WR-CALNAME:Konrad-Adenauer-Schule
X-ORIGINAL-URL:https://schulen-treis-karden.de
X-WR-CALDESC:Veranstaltungen für Konrad-Adenauer-Schule
REFRESH-INTERVAL;VALUE=DURATION:PT1H
X-Robots-Tag:noindex
X-PUBLISHED-TTL:PT1H
BEGIN:VTIMEZONE
TZID:Europe/Berlin
BEGIN:DAYLIGHT
TZOFFSETFROM:+0100
TZOFFSETTO:+0200
TZNAME:CEST
DTSTART:20170326T010000
END:DAYLIGHT
BEGIN:STANDARD
TZOFFSETFROM:+0200
TZOFFSETTO:+0100
TZNAME:CET
DTSTART:20171029T010000
END:STANDARD
END:VTIMEZONE
BEGIN:VEVENT
DTSTART;TZID=Europe/Berlin:20171207T090000
DTEND;TZID=Europe/Berlin:20171207T103000
DTSTAMP:20260425T231228
CREATED:20171119T004722Z
LAST-MODIFIED:20171119T011212Z
UID:12147-1512637200-1512642600@schulen-treis-karden.de
SUMMARY:Mathewettbewerb 'Zahlenteufel' Klassen 5a und 5b
DESCRIPTION:Mathewettbewerb ‚Zahlenteufel‘ Klassen 5a und 5b
URL:https://schulen-treis-karden.de/event/mathewettbewerb-zahlenteufel-klassen-5a-und-5b-2/
CATEGORIES:Termine
END:VEVENT
END:VCALENDAR