BEGIN:VCALENDAR
VERSION:2.0
PRODID:-//Konrad-Adenauer-Schule - ECPv6.2.6//NONSGML v1.0//EN
CALSCALE:GREGORIAN
METHOD:PUBLISH
X-ORIGINAL-URL:https://schulen-treis-karden.de
X-WR-CALDESC:Veranstaltungen für Konrad-Adenauer-Schule
REFRESH-INTERVAL;VALUE=DURATION:PT1H
X-Robots-Tag:noindex
X-PUBLISHED-TTL:PT1H
BEGIN:VTIMEZONE
TZID:Europe/Berlin
BEGIN:DAYLIGHT
TZOFFSETFROM:+0100
TZOFFSETTO:+0200
TZNAME:CEST
DTSTART:20170326T010000
END:DAYLIGHT
BEGIN:STANDARD
TZOFFSETFROM:+0200
TZOFFSETTO:+0100
TZNAME:CET
DTSTART:20171029T010000
END:STANDARD
END:VTIMEZONE
BEGIN:VEVENT
DTSTART;VALUE=DATE:20171023
DTEND;VALUE=DATE:20171024
DTSTAMP:20260426T033031
CREATED:20171119T004711Z
LAST-MODIFIED:20171119T011009Z
UID:12123-1508716800-1508803199@schulen-treis-karden.de
SUMMARY:Radfahrausbildung Kl. 4a und 4b
DESCRIPTION:Radfahrausbildung Kl. 4a und 4b
URL:https://schulen-treis-karden.de/event/radfahrausbildung-kl-4a-und-4b-3/
CATEGORIES:Termine
END:VEVENT
END:VCALENDAR